BEGIN:VCALENDAR
VERSION:2.0
PRODID:-//Ramsgate Society - ECPv6.15.18//NONSGML v1.0//EN
CALSCALE:GREGORIAN
METHOD:PUBLISH
X-ORIGINAL-URL:https://ramsgate-society.org.uk
X-WR-CALDESC:Events for Ramsgate Society
REFRESH-INTERVAL;VALUE=DURATION:PT1H
X-Robots-Tag:noindex
X-PUBLISHED-TTL:PT1H
BEGIN:VTIMEZONE
TZID:UTC
BEGIN:STANDARD
TZOFFSETFROM:+0000
TZOFFSETTO:+0000
TZNAME:UTC
DTSTART:20210101T000000
END:STANDARD
END:VTIMEZONE
BEGIN:VEVENT
DTSTART;TZID=UTC:20220716T110000
DTEND;TZID=UTC:20220717T163000
DTSTAMP:20260426T020757
CREATED:20220622T094906Z
LAST-MODIFIED:20220622T100400Z
UID:1615-1657969200-1658075400@ramsgate-society.org.uk
SUMMARY:Rooswijk1740 Open Day
DESCRIPTION:We are delighted to support the free drop in event for all ages on 16th and 17th July at Radford House (The Old Fire Station) in Ramsgate. \n\n\nIn 2017 and 2018 an international team of maritime archaeologists undertook an archaeological project on the Rooswijk protected wreck site. Over 2\,000 artefacts were excavated\, ranging from coins to cannon balls and including both cargo and personal items. \n\n\nConservation and analysis is now nearing completion and in late 2022 the finds will be undertaking their final journey to The Netherlands. This is the last opportunity to view them before they leave the UK. \n\n\nThe free family friendly open day\, as part of the Festival of Archaeology\, will have activities for all ages\, opportunities to talk to the team who have worked on the project and to find out more about the site. \n\n\nThe event is suitable for all ages and has been supported by project partners and additional funding from the Ramsgate Town Council. \n\n\nThe details are: Ramsgate Open Days. 16th and 17th July from 10:30am till 4:30pm \n\n\nRadford House (The Old Fire Station) \n\n\nEffingham Street \n\n\nRamsgate \n\n\nCT11 9AT \n\n\n  \n\n\nFor fuller details click here for an online leaflet: https://simplebooklet.com/rooswijk1740 \n\nFor all event enquiries please email info@MSDSMarine.co.uk
URL:https://ramsgate-society.org.uk/event/rooswijk1740-open-day/
LOCATION:Radford House (The Old Fire Station)\, Effingham Street\, Ramsgate\, Kent\, CT11 9AT\, United Kingdom
CATEGORIES:Community Projects,Exhibitions
ATTACH;FMTTYPE=image/jpeg:https://ramsgate-society.org.uk/wp-content/uploads/2022/06/09-Duiker-RCE-bij-scheepswrak-de-Rooswijk-tijdens-de-verkenning-in-2016-scaled.jpg
END:VEVENT
END:VCALENDAR