BEGIN:VCALENDAR
VERSION:2.0
PRODID:-//Ramsgate Society - ECPv6.15.18//NONSGML v1.0//EN
CALSCALE:GREGORIAN
METHOD:PUBLISH
X-ORIGINAL-URL:https://ramsgate-society.org.uk
X-WR-CALDESC:Events for Ramsgate Society
REFRESH-INTERVAL;VALUE=DURATION:PT1H
X-Robots-Tag:noindex
X-PUBLISHED-TTL:PT1H
BEGIN:VTIMEZONE
TZID:UTC
BEGIN:STANDARD
TZOFFSETFROM:+0000
TZOFFSETTO:+0000
TZNAME:UTC
DTSTART:20230101T000000
END:STANDARD
END:VTIMEZONE
BEGIN:VEVENT
DTSTART;TZID=UTC:20240906T100000
DTEND;TZID=UTC:20240915T160000
DTSTAMP:20260424T073340
CREATED:20240819T152140Z
LAST-MODIFIED:20240820T112403Z
UID:2767-1725616800-1726416000@ramsgate-society.org.uk
SUMMARY:The Clock House Museum Exhibition
DESCRIPTION:Arch 6\, Military Road\, CT11 9LG \nFriday 6th – Sunday 8th & Friday 13th – Sunday 15th September\, 10am– 4pm \nSee “Clock House Ramsgate” on Facebook »
URL:https://ramsgate-society.org.uk/event/the-clock-house-museum-exhibition/
CATEGORIES:Exhibitions,Heritage Harbour
ATTACH;FMTTYPE=image/webp:https://ramsgate-society.org.uk/wp-content/uploads/2024/08/clockhouse-mini-copy.webp
END:VEVENT
END:VCALENDAR