BEGIN:VCALENDAR
VERSION:2.0
PRODID:-//Ramsgate Society - ECPv6.15.18//NONSGML v1.0//EN
CALSCALE:GREGORIAN
METHOD:PUBLISH
X-WR-CALNAME:Ramsgate Society
X-ORIGINAL-URL:https://ramsgate-society.org.uk
X-WR-CALDESC:Events for Ramsgate Society
REFRESH-INTERVAL;VALUE=DURATION:PT1H
X-Robots-Tag:noindex
X-PUBLISHED-TTL:PT1H
BEGIN:VTIMEZONE
TZID:UTC
BEGIN:STANDARD
TZOFFSETFROM:+0000
TZOFFSETTO:+0000
TZNAME:UTC
DTSTART:20210101T000000
END:STANDARD
END:VTIMEZONE
BEGIN:VEVENT
DTSTART;TZID=UTC:20220715T190000
DTEND;TZID=UTC:20220715T200000
DTSTAMP:20260424T105107
CREATED:20220521T095457Z
LAST-MODIFIED:20220523T154922Z
UID:1511-1657911600-1657915200@ramsgate-society.org.uk
SUMMARY:Sandwich and Pegwell Bay National Nature Reserve
DESCRIPTION:Agostina Campodonico talks of the wildlife of the Sandwich and Pegwell Bay areas and of the ambitious future plans for the site. \nSandwich and Pegwell Bay is a coastal reserve full of incredible wildlife. Elusive cuckoos\, rare lizard orchids and harbour seals can all be found here. Though it is recognized for having the best preserved sand dune system in South East England\, this reserve is probably best known as a birdwatcher’s gem. Spring and summer give passage migrants a warm welcome as they stop for the breeding season. Nightingales and Cuckoos loudly advertise their territories whilst the perfectly camouflaged eggs of Ringed Plovers go unnoticed on the shingle. Autumn and winter see the arrival of a spectacular number of birds completing epic journeys from places as far as Canada\, Siberia and Southern Africa\, attracted by the warmth and vast expanse of the soft\, unfrozen mudflats of the bay. \nTo hear about the work that goes on to support this natural gem come to this Ramsgate Society Talk – all are welcome but non-members of the Ramsgate Society are asked to consider a voluntary donation of £3. Doors open at 6:30 and places must be booked in advance. \n\nClick here to reserve a place: https://bit.ly/PegwellTalkTickets
URL:https://ramsgate-society.org.uk/event/sandwich-and-pegwell-bay-national-nature-reserve/
LOCATION:Royal Temple Yacht Club\, 6 Westcliff Mansions\, Ramsgate\, Kent\, CT11 9HY\, United Kingdom
CATEGORIES:Talks
ATTACH;FMTTYPE=image/jpeg:https://ramsgate-society.org.uk/wp-content/uploads/2022/05/Pegwell-Bay-Vicky-Aitkenhead-3.jpeg
END:VEVENT
END:VCALENDAR