BEGIN:VCALENDAR
VERSION:2.0
PRODID:-//Ramsgate Society - ECPv6.15.18//NONSGML v1.0//EN
CALSCALE:GREGORIAN
METHOD:PUBLISH
X-ORIGINAL-URL:https://ramsgate-society.org.uk
X-WR-CALDESC:Events for Ramsgate Society
REFRESH-INTERVAL;VALUE=DURATION:PT1H
X-Robots-Tag:noindex
X-PUBLISHED-TTL:PT1H
BEGIN:VTIMEZONE
TZID:UTC
BEGIN:STANDARD
TZOFFSETFROM:+0000
TZOFFSETTO:+0000
TZNAME:UTC
DTSTART:20210101T000000
END:STANDARD
END:VTIMEZONE
BEGIN:VEVENT
DTSTART;TZID=UTC:20220806T100000
DTEND;TZID=UTC:20220806T160000
DTSTAMP:20260424T090352
CREATED:20220730T092351Z
LAST-MODIFIED:20220730T092759Z
UID:1662-1659780000-1659801600@ramsgate-society.org.uk
SUMMARY:Pegwell Bay Nature Reserve Celebration
DESCRIPTION:After an inspiring Ramsgate Society talk in July we are delighted to promote this event to celebrate the 70th Anniversary of National Nature Reserves with a one day event on our doorstep. \nAbout the event\nDiscover the wonderful wildlife and heritage of Pegwell Bay National Nature Reserve through a variety of walking tours\, stalls\, drop-in activities and games for all ages.  Join Kent Wildlife Trust\, Bird Wise East Kent\, Thanet Coast Project\, Sandwich Bay Bird Observatory\, KCC Country Parks and many more to find out what we are doing to protect nature across Pegwell and Sandwich Bay and beyond. \nSuitable for all ages. \nThere’s something for everyone: \n\nPond Dipping and Mini Beasting\nBirdlife Games and trails\nCrafts for Children\nEnvironmental artist Jane Hills Kinsella\nSavvy Sea Dogs training (various times)\nGuided Heritage Walk with CITiZAN\nWildlife Walking Tours\nRefreshments from Campuccinos and Salty Seal Café\n\nBooking is essential for guided tours. All other activities are drop in. \nClick here for booked events Book \nPlease contact  nina.jones@kentwildlife.org.uk for more information.
URL:https://ramsgate-society.org.uk/event/pegwell-bay-nature-reserve-celegration/
LOCATION:Pegwell Country Park car park\, Sandwich Road\, Ramsgate\, Kent\, CT12 5JB\, United Kingdom
CATEGORIES:Community Projects,Talks,Walks
ATTACH;FMTTYPE=image/jpeg:https://ramsgate-society.org.uk/wp-content/uploads/2022/07/D9BB12EF-BB03-4874-B423-245210D30F6A.jpeg
END:VEVENT
BEGIN:VEVENT
DTSTART;TZID=UTC:20220831T190000
DTEND;TZID=UTC:20220831T200000
DTSTAMP:20260424T090352
CREATED:20220801T150312Z
LAST-MODIFIED:20220801T151559Z
UID:1669-1661972400-1661976000@ramsgate-society.org.uk
SUMMARY:Ramsgate Society Talk by Maggie Gee on her new novel "The Red Children"
DESCRIPTION:Once more the Ramsgate Society is supporting the Festival of Sound by adding talks to the events programme. The first talk will be by local author\, Maggie Gee\, on her acclaimed new novel set in Ramsgate. Building on her extensive knowledge of Ramsgate history\, its landmarks and its people she weaves an unexpected tale: Who were the Neanderthals\, & what do they have to teach us? Long before and long after the Romans landed near us\, migrants from Europe\, including Neanderthals\, have come to Kent. What if they returned? \nHer talk takes place at 7pm on August 31st at the Royal Temple Yacht Club. Places must be reserved in advance on the Eventbrite site. Doors open at 6;30pm. A voluntary donation of £3 is requested to help funding for the Festival. \nClick here on website link below ( bit.ly/MaggieGeeTalk ) to reserve a place
URL:https://ramsgate-society.org.uk/event/ramsgate-society-talk-by-maggie-gee-on-the-red-children/
LOCATION:Royal Temple Yacht Club\, 6 Westcliff Mansions\, Ramsgate\, Kent\, CT11 9HY\, United Kingdom
CATEGORIES:Community Projects,Talks
ATTACH;FMTTYPE=image/jpeg:https://ramsgate-society.org.uk/wp-content/uploads/2022/08/Image-28-07-2022-at-10.34.jpg
ORGANIZER;CN="Ramsgate Society":MAILTO:news@ramsgate-society.org.uk
END:VEVENT
END:VCALENDAR