BEGIN:VCALENDAR
VERSION:2.0
PRODID:-//Ramsgate Society - ECPv6.15.18//NONSGML v1.0//EN
CALSCALE:GREGORIAN
METHOD:PUBLISH
X-WR-CALNAME:Ramsgate Society
X-ORIGINAL-URL:https://ramsgate-society.org.uk
X-WR-CALDESC:Events for Ramsgate Society
REFRESH-INTERVAL;VALUE=DURATION:PT1H
X-Robots-Tag:noindex
X-PUBLISHED-TTL:PT1H
BEGIN:VTIMEZONE
TZID:UTC
BEGIN:STANDARD
TZOFFSETFROM:+0000
TZOFFSETTO:+0000
TZNAME:UTC
DTSTART:20220101T000000
END:STANDARD
END:VTIMEZONE
BEGIN:VEVENT
DTSTART;TZID=UTC:20230120T190000
DTEND;TZID=UTC:20230120T200000
DTSTAMP:20260424T013251
CREATED:20221214T113325Z
LAST-MODIFIED:20221214T151349Z
UID:1863-1674241200-1674244800@ramsgate-society.org.uk
SUMMARY:Radford House: Past\, Present and Future
DESCRIPTION:Our next Ramsgate Society talk brings takes us into Radford House to listen to the Ramsgate Town Councillor Anne-Marie Nixie and Radford House Project Managers Michael Fowley and Andrew Hadden talk about this important building: \n\nWhat was it before it became the fire station?\nWhy did the fire station move elsewhere\nHow did it come to be owned by Ramsgate Town Council?\nWhy has it been renamed?\nWhat is the place now going to be offering and what will it look like?\n\nThis will be your chance to not just learn about future plans but also to contribute ideas for how it could become an essential and well used community asset. \nSince the capacity is slightly less than our normal venue it will be even more important to book your place – but please do not do so unless you really are sure you will be attending. \nClick here to book https://bit.ly/RadfordHouseTalk
URL:https://ramsgate-society.org.uk/event/radford-house-past-present-and-future/
LOCATION:Radford House (The Old Fire Station)\, Effingham Street\, Ramsgate\, Kent\, CT11 9AT\, United Kingdom
CATEGORIES:Talks
ATTACH;FMTTYPE=image/jpeg:https://ramsgate-society.org.uk/wp-content/uploads/2022/11/Image-30-11-2022-at-14.37.jpg
ORGANIZER;CN="Ramsgate Society":MAILTO:news@ramsgate-society.org.uk
END:VEVENT
END:VCALENDAR