BEGIN:VCALENDAR
VERSION:2.0
PRODID:-//Ramsgate Society - ECPv6.15.18//NONSGML v1.0//EN
CALSCALE:GREGORIAN
METHOD:PUBLISH
X-WR-CALNAME:Ramsgate Society
X-ORIGINAL-URL:https://ramsgate-society.org.uk
X-WR-CALDESC:Events for Ramsgate Society
REFRESH-INTERVAL;VALUE=DURATION:PT1H
X-Robots-Tag:noindex
X-PUBLISHED-TTL:PT1H
BEGIN:VTIMEZONE
TZID:UTC
BEGIN:STANDARD
TZOFFSETFROM:+0000
TZOFFSETTO:+0000
TZNAME:UTC
DTSTART:20230101T000000
END:STANDARD
END:VTIMEZONE
BEGIN:VEVENT
DTSTART;TZID=UTC:20240411T190000
DTEND;TZID=UTC:20240411T200000
DTSTAMP:20260423T030640
CREATED:20240313T121002Z
LAST-MODIFIED:20240313T121002Z
UID:2435-1712862000-1712865600@ramsgate-society.org.uk
SUMMARY:Remembering the Mining Heritage of East Kent
DESCRIPTION:Those relatively new to Ramsgate may be unaware that we have any connection with coal mining but all the main Kent collieries were within 15 miles of us and because they were all in rural locations it was in towns like Deal and Ramsgate that many miners were living. \n\nIn the early 1900s when the main Kent mines were opening\, much of the skilled labour force had to be imported from existing pits elsewhere. As an example\, Ramsgate became home to the majority of the miners coming from Wales to work the Chislet Colliery in Hersden\, about 12 miles from Ramsgate on the way to Canterbury. \n\nOur talk on April 11th will include slides\, films and personal memories from Jim Davies\, an ex-miner volunteer at the Kent Mining Museum at Betteshanger. Jim is the son of a Welsh miner who made the transfer to Kent. He later followed in his father’s footsteps down the mines until (in his own words) he had the task of “putting the lights out” at the last working mine in Kent. He also remembers coming to the Ramsgate Tunnels to test for gas! \n\nThis unique event that combines formal research with oral history takes place on April 11th at the San Clu. As usual doors open at 6:30pm and the talk of about 45 minutes will start at 7pm and be followed by about 15 minutes of Q & A. Places must be booked in advance at £2 (+ 88p for Eventbrite costs). Non-members of the Ramsgate Society will be requested to add a voluntary donation of £3 on the door. \nBook at bit.ly/MiningTalk or via the website link below
URL:https://ramsgate-society.org.uk/event/remembering-the-mining-heritage-of-east-kent/
LOCATION:San Clu Hotel\, Victoria Parade\, Ramsgate\, Kent\, CT11 8DT\, United Kingdom
CATEGORIES:Community Projects,Talks
ATTACH;FMTTYPE=image/jpeg:https://ramsgate-society.org.uk/wp-content/uploads/2024/03/miners.jpeg
ORGANIZER;CN="Ramsgate Society":MAILTO:news@ramsgate-society.org.uk
END:VEVENT
END:VCALENDAR