BEGIN:VCALENDAR
VERSION:2.0
PRODID:-//Ramsgate Society - ECPv6.15.18//NONSGML v1.0//EN
CALSCALE:GREGORIAN
METHOD:PUBLISH
X-ORIGINAL-URL:https://ramsgate-society.org.uk
X-WR-CALDESC:Events for Ramsgate Society
REFRESH-INTERVAL;VALUE=DURATION:PT1H
X-Robots-Tag:noindex
X-PUBLISHED-TTL:PT1H
BEGIN:VTIMEZONE
TZID:UTC
BEGIN:STANDARD
TZOFFSETFROM:+0000
TZOFFSETTO:+0000
TZNAME:UTC
DTSTART:20230101T000000
END:STANDARD
END:VTIMEZONE
BEGIN:VEVENT
DTSTART;TZID=UTC:20240613T190000
DTEND;TZID=UTC:20240613T210000
DTSTAMP:20260423T002611
CREATED:20240523T101144Z
LAST-MODIFIED:20240523T101144Z
UID:2546-1718305200-1718312400@ramsgate-society.org.uk
SUMMARY:Free Presentation on the Green Plaque Scheme
DESCRIPTION:This June sees the annual Great Big Green Week (June 8th – 16th)\, a nationwide week of community action to tackle climate change and protect nature. \nThe Ramsgate Society is pleased to be hosting a presentation of the Green Plaque Scheme\, which seeks to encourage more sustainable living by providing an environmental assessment of your home and how you live in it. \nThe scheme will advise on how best to improve your environmental footprint and improve the comfort of your home\, all while saving you money. \nThere is no charge – just come along to the presentation on Thursday 13th June 7.00-9.00pm (doors open 6.30pm)\, in the upstairs function room at the Queens Head\, 78 Harbour Parade\, Ramsgate\, CT11 8LP. \nPhil Shotton\, Ramsgate Society Lead on Environment and Climate Change
URL:https://ramsgate-society.org.uk/event/free-presentation-on-the-green-plaque-scheme/
LOCATION:The Queen’s Head\, 78 Harbour Parade\, Ramsgate\, Kent\, CT118JL\, United Kingdom
CATEGORIES:Community Projects,Talks
ATTACH;FMTTYPE=image/jpeg:https://ramsgate-society.org.uk/wp-content/uploads/2024/05/Image-14-05-2024-at-10.38.jpeg
ORGANIZER;CN="Ramsgate Society":MAILTO:news@ramsgate-society.org.uk
END:VEVENT
BEGIN:VEVENT
DTSTART;TZID=UTC:20240620T190000
DTEND;TZID=UTC:20240620T200000
DTSTAMP:20260423T002611
CREATED:20240512T101020Z
LAST-MODIFIED:20240512T101020Z
UID:2529-1718910000-1718913600@ramsgate-society.org.uk
SUMMARY:Results of Feasibility Study to bring back Tall Ships Regatta to Ramsgate
DESCRIPTION:Almost a year ago in July 2023 we hosted a talk by Paul Bishop and Stephen Byrne on the possibility of bringing Tall Ships events back to Ramsgate as a way of using Ramsgate’s maritime heritage to boost the visitor economy. \nEarlier this year the Ramsgate Society and the Ramsgate Regeneration Alliance jointly commissioned a report on the Feasibility of bringing a Tall Ships Regatta to Ramsgate harbour in May 2026. We received a grant from Ramsgate Town Council\, and sponsorship from local resident Graham Burrell and specialist developers Arcvelop Ltd. (Arcvelop will shortly be starting a new development in Albion Place\, which has received good design reviews from the Ramsgate Heritage and Design Form – you can read more about them here (Link to https://arcvelop.com ) \nThe feasibility Study has been carried out by Paul Bishop of Tall Ships Global and he will be presenting the results of the study at a Ramsgate Society Talk on Thursday 20th June at 7pm at the San Clu Hotel. \nPaul has had a life-long career in sail training and Tall Ships Races. Early on\, he was the skipper of the sail training ketch Scott Bader Commonwealth in the 1980s\, when he was a frequent visitor to Ramsgate harbour and the Royal Temple Yacht Club! \nHe went on to have a number of management and leadership roles with sail training organisations and was the Race Director for Sail Training International for 14 years before setting up Tall Ships Global Consultancy Limited in 2020. He has been responsible for over 70 Tall Ships Race host ports all over the world as a Race Director and now uses his extensive experience and specialist knowledge with ports planning to put on Tall Ships events. He is delighted to be involved with the proposed Royal Ramsgate Tall Ships Festival 2026. He was honoured to be awarded an MBE in the 2023 Kings New Year’s Honours list for services to young people through Sail Training. \nThis opportunity to meet Paul again and to be informed about the next stage takes place on June 20th at the San Clu. As usual doors open at 6:30pm and the talk of about 45 minutes will start at 7pm and be followed by about 15 minutes of Q & A. Places must be booked in advance at £2 (+ 88p for Eventbrite costs). Non-members of the Ramsgate Society will be requested to add a voluntary donation of £3 on the door. \nBook here https://bit.ly/TallShipsFeasibilityWeb \nor click the ‘Website’ link below
URL:https://ramsgate-society.org.uk/event/results-of-feasibility-study-to-bring-back-tall-ships-regatta-to-ramsgate/
LOCATION:San Clu Hotel\, Victoria Parade\, Ramsgate\, Kent\, CT11 8DT\, United Kingdom
CATEGORIES:Community Projects,Talks
ATTACH;FMTTYPE=image/jpeg:https://ramsgate-society.org.uk/wp-content/uploads/2024/05/Image-09-05-2024-at-17.31.jpeg
ORGANIZER;CN="Ramsgate Society":MAILTO:news@ramsgate-society.org.uk
END:VEVENT
END:VCALENDAR