BEGIN:VCALENDAR
VERSION:2.0
PRODID:-//Ramsgate Society - ECPv6.15.18//NONSGML v1.0//EN
CALSCALE:GREGORIAN
METHOD:PUBLISH
X-ORIGINAL-URL:https://ramsgate-society.org.uk
X-WR-CALDESC:Events for Ramsgate Society
REFRESH-INTERVAL;VALUE=DURATION:PT1H
X-Robots-Tag:noindex
X-PUBLISHED-TTL:PT1H
BEGIN:VTIMEZONE
TZID:UTC
BEGIN:STANDARD
TZOFFSETFROM:+0000
TZOFFSETTO:+0000
TZNAME:UTC
DTSTART:20230101T000000
END:STANDARD
END:VTIMEZONE
BEGIN:VEVENT
DTSTART;TZID=UTC:20240725T190000
DTEND;TZID=UTC:20240725T200000
DTSTAMP:20260422T230011
CREATED:20240617T091951Z
LAST-MODIFIED:20240617T091951Z
UID:2576-1721934000-1721937600@ramsgate-society.org.uk
SUMMARY:Regeneration of the Clock House and Ramsgate's Maritime Museum
DESCRIPTION:We return to the San Clu on July 25th and will welcome Rob Warren (Museum & Gallery Consultant on the Ramsgate Society Committee) and Lucia Tanner (Regeneration Project Officer at Thanet District Council) to bring us all up to date on what is happening on the Clock House and Maritime Museum: the building\, the collection\, the finances\, the opportunities and the problems. It is your chance to catch up and also to raise any questions you may have. \nTo quote Rob Warren\, Museum Curator and our advisor on the Ramsgate Society committee : “Museums are not full of old objects – museums are full of people and stories. And not just of a harbour or a town or an island\, but of the culture\, of the legacy\, and of the world. The Clock House is brimming with such objects\, revealing their invisible recordings to anyone who wants to discover them. The preservation of these objects is a critical first step towards returning our Maritime Museum to the town and in this talk I want to look at how we aim to rediscover those people and stories through the Collection Project taking place over the summer.” \nHe also keen to acknowledge the support he is receiving to keep the project moving: ‘There are two reasons why this is going well. One is the continuing support of TDC\, demonstrating their desire to reinstate the Clock House as a museum at the heart of the town and community. But the real stars are the volunteers. A team of passionate and dedicated folks who come down to the harbour every day\, rain or shine\, and give their precious time\, energy\, and effort. Always with a smile and always happy to do whatever is needed.’ \nWe will also be delighted to welcome Lucia Tanner who can set the scene from the TDC point of view regarding the importance of this project within the Levelling Up funds allocated to Ramsgate. \nThis is sure to be a very popular event and pre booking is essential at £2.88 a ticket for Society Members. Non members will be asked to make a voluntary donation of a further £3 on the door. \nAs usual\, doors open at 6:30pm and the talk will start at 7pm and run for an hour including questions. \nTo book click here: https://bit.ly/ClockHouseTalkWEb or use the Website Link below
URL:https://ramsgate-society.org.uk/event/regeneration-of-the-clock-house-and-ramsgates-maritime-museum/
LOCATION:San Clu Hotel\, Victoria Parade\, Ramsgate\, Kent\, CT11 8DT\, United Kingdom
CATEGORIES:Community Projects,Talks
ATTACH;FMTTYPE=image/jpeg:https://ramsgate-society.org.uk/wp-content/uploads/2024/06/VOLUNTEERS_02.jpeg
ORGANIZER;CN="Ramsgate Society":MAILTO:news@ramsgate-society.org.uk
END:VEVENT
END:VCALENDAR