BEGIN:VCALENDAR
VERSION:2.0
PRODID:-//Ramsgate Society - ECPv6.15.18//NONSGML v1.0//EN
CALSCALE:GREGORIAN
METHOD:PUBLISH
X-WR-CALNAME:Ramsgate Society
X-ORIGINAL-URL:https://ramsgate-society.org.uk
X-WR-CALDESC:Events for Ramsgate Society
REFRESH-INTERVAL;VALUE=DURATION:PT1H
X-Robots-Tag:noindex
X-PUBLISHED-TTL:PT1H
BEGIN:VTIMEZONE
TZID:UTC
BEGIN:STANDARD
TZOFFSETFROM:+0000
TZOFFSETTO:+0000
TZNAME:UTC
DTSTART:20230101T000000
END:STANDARD
END:VTIMEZONE
BEGIN:VEVENT
DTSTART;TZID=UTC:20241024T190000
DTEND;TZID=UTC:20241024T200000
DTSTAMP:20260422T185054
CREATED:20240920T140404Z
LAST-MODIFIED:20240920T140404Z
UID:2857-1729796400-1729800000@ramsgate-society.org.uk
SUMMARY:Talk on the Dunkirk Little Ships and Ramsgate
DESCRIPTION:A major event in May 2025 will commemorate the 85th anniversary of Operation Dynamo and the role of the Little Ships in the Dunkirk Evacuation. A fleet of 60 of the original vessels is planned to assemble and then embark from Ramsgate Harbour. \nOur next talk on October 24th 7pm at the San Clu will set the scene! \nThe talk will be presented by: \nKevin Finn. Commodore of The Association of Dunkirk Little Ships\, owner of ‘Brown Owl’ and Ramsgate resident. \nIan Gilbert. Honorary Vice Admiral of The Association of Dunkirk Little Ships and owner of ‘Lady Lou’. \nThe evening will cover two areas: \n\nOperation Dynamo and the Dunkirk Little Ships.\n\nA historical review of Operation Dynamo from different perspectives\, together with a look at the types of vessels who took part and how. \n\nThe Commemorative Return to Dunkirk 2025.\n\nWhat does this mean for Ramsgate\, what events are taking place\, how many Little Ships are attending\, what is a support Fleet. How can you engage in the events taking place. \nDoors open at 6:30pm and the talk of about 45 minutes will start at 7pm and be followed by about 15 minutes Q&A. Places must be booked in advance at £2 (+88p for Eventbrite costs). Non-members of the Ramsgate Society will be requested to add a voluntary donation of £3 on the door. \nBook by clicking on website link below or direct to: https://bit.ly/LittleShipsTalk
URL:https://ramsgate-society.org.uk/event/talk-on-the-dunkirk-little-ships-and-ramsgate/
LOCATION:San Clu Hotel\, Victoria Parade\, Ramsgate\, Kent\, CT11 8DT\, United Kingdom
CATEGORIES:Community Projects,Talks
ATTACH;FMTTYPE=image/jpeg:https://ramsgate-society.org.uk/wp-content/uploads/2024/09/5c7040_50181359a06841e2a9b729f9e8ef3c13mv2-1.jpg.jpg
ORGANIZER;CN="Ramsgate Society":MAILTO:news@ramsgate-society.org.uk
END:VEVENT
END:VCALENDAR