BEGIN:VCALENDAR
VERSION:2.0
PRODID:-//Ramsgate Society - ECPv6.15.18//NONSGML v1.0//EN
CALSCALE:GREGORIAN
METHOD:PUBLISH
X-ORIGINAL-URL:https://ramsgate-society.org.uk
X-WR-CALDESC:Events for Ramsgate Society
REFRESH-INTERVAL;VALUE=DURATION:PT1H
X-Robots-Tag:noindex
X-PUBLISHED-TTL:PT1H
BEGIN:VTIMEZONE
TZID:UTC
BEGIN:STANDARD
TZOFFSETFROM:+0000
TZOFFSETTO:+0000
TZNAME:UTC
DTSTART:20240101T000000
END:STANDARD
END:VTIMEZONE
BEGIN:VEVENT
DTSTART;TZID=UTC:20250619T190000
DTEND;TZID=UTC:20250619T200000
DTSTAMP:20260420T064402
CREATED:20250512T142816Z
LAST-MODIFIED:20250512T142816Z
UID:3126-1750359600-1750363200@ramsgate-society.org.uk
SUMMARY:Our June Talk: From Vacancy to Vibrancy – The Role of Ramsgate Space in Local Regeneration
DESCRIPTION:This talk will be led by Louise Brookes\, a Founder and Executive Director of Ramsgate Space CIC\, who brings over 15 years of expertise in town centre revitalisation and a track record of transforming empty shops across the UK into thriving community assets. She will introduce other members of the team with equally impressive credentials on the night. \nRamsgate Space is a grassroots initiative working to bring Ramsgate’s empty shops back into use quickly\, creatively\, and with long-term ambition. Louise and her team will explore how they are using pop-ups\, testing trading\, and cultural events to activate disused spaces while building a pipeline toward more permanent solutions. \nAlongside stories from Ramsgate Space HQ and other early interventions\, the talk will look at the structural barriers to reuse; from fragmented ownership to slow legislation\, and discuss what tools\, funding streams\, and policy changes could unlock further progress. As more towns grapple with high street decline\, they will consider what regeneration really means at street level\, and how local people can help shape it. \nAs part of the evening\, they will invite attendees to take part in a short interactive activity: “Shops We Miss\, Spaces We Imagine.”  You’ll have the chance to share memories of much-missed local shops and contribute your ideas for how empty spaces in Ramsgate could be used in the future. Your insights will help inform the ongoing work of Ramsgate Space CIC. \nWe believe this is such an important talk that we are transferring to a larger venue at the Oddfellows Hall 142 High St\, Ramsgate CT11 9TY so there should be no problem fitting everyone in but we must still ask you to pay £3 to book your place. \nAs usual doors open with bar at 6:30pm and the talk will run from 7pm to 8p \nTickets https://bit.ly/RamsgateSpaceTalk or click the website URL listed below
URL:https://ramsgate-society.org.uk/event/our-june-talk-from-vacancy-to-vibrancy-the-role-of-ramsgate-space-in-local-regeneration/
LOCATION:Oddfellows Hall\, 142 High Street\, Ramsgate\, Kent\, CT119TY\, United Kingdom
CATEGORIES:Community Projects,Talks
ATTACH;FMTTYPE=image/jpeg:https://ramsgate-society.org.uk/wp-content/uploads/2025/05/0Z3B9585r.jpeg
ORGANIZER;CN="Ramsgate Society":MAILTO:news@ramsgate-society.org.uk
END:VEVENT
END:VCALENDAR