BEGIN:VCALENDAR
VERSION:2.0
PRODID:-//Ramsgate Society - ECPv6.15.18//NONSGML v1.0//EN
CALSCALE:GREGORIAN
METHOD:PUBLISH
X-ORIGINAL-URL:https://ramsgate-society.org.uk
X-WR-CALDESC:Events for Ramsgate Society
REFRESH-INTERVAL;VALUE=DURATION:PT1H
X-Robots-Tag:noindex
X-PUBLISHED-TTL:PT1H
BEGIN:VTIMEZONE
TZID:UTC
BEGIN:STANDARD
TZOFFSETFROM:+0000
TZOFFSETTO:+0000
TZNAME:UTC
DTSTART:20210101T000000
END:STANDARD
END:VTIMEZONE
BEGIN:VEVENT
DTSTART;TZID=UTC:20220705T070000
DTEND;TZID=UTC:20220705T070000
DTSTAMP:20260425T004842
CREATED:20220520T135405Z
LAST-MODIFIED:20220520T145827Z
UID:1466-1657004400-1657004400@ramsgate-society.org.uk
SUMMARY:Ramsgate Costumed Walks 2022
DESCRIPTION:  \nThe Ramsgate Costumed Walks Group  have announced their 2022 season of walks in Ramsgate. \nWest Cliff Walk – Assemble by West Cliff Lift near Government Acre   July 5th  – 7.00 p.m. –  \nPlease Note – Large Groups will need to pre-book on 01843 852780 There is no set charge for these walks but a donation of £2.00 per person is suggested tohelp with running costs. For further information contact 07989 569935
URL:https://ramsgate-society.org.uk/event/ramsgate-costumed-walks-2022/
LOCATION:Kent
CATEGORIES:Walks
ATTACH;FMTTYPE=image/png:https://ramsgate-society.org.uk/wp-content/uploads/2022/05/Screenshot-2022-05-20-at-14.17.05.png
END:VEVENT
BEGIN:VEVENT
DTSTART;TZID=UTC:20220712T190000
DTEND;TZID=UTC:20220712T190000
DTSTAMP:20260425T004842
CREATED:20220520T135952Z
LAST-MODIFIED:20220520T145937Z
UID:1468-1657652400-1657652400@ramsgate-society.org.uk
SUMMARY:Ramsgate Costumed Walks 2022
DESCRIPTION:  \nThe Ramsgate Costumed Walks Group  have announced their 2022 season of walks in Ramsgate. Please Note – Large Groups will need to pre-book on 01843 852780. There is no set charge for these walks but a donation of £2.00 per person is suggested to help with running costs. For further information contact 07989 569935 \nRoyal Harbour Walk – Assemble by The Maritime Museum  July 12th – 7.00 p.m.
URL:https://ramsgate-society.org.uk/event/ramsgate-costumed-walks/
LOCATION:Kent
CATEGORIES:Walks
ATTACH;FMTTYPE=image/png:https://ramsgate-society.org.uk/wp-content/uploads/2022/05/Screenshot-2022-05-20-at-14.17.05.png
END:VEVENT
BEGIN:VEVENT
DTSTART;TZID=UTC:20220719T190000
DTEND;TZID=UTC:20220719T190000
DTSTAMP:20260425T004842
CREATED:20220520T140734Z
LAST-MODIFIED:20220520T150016Z
UID:1471-1658257200-1658257200@ramsgate-society.org.uk
SUMMARY:Ramsgate Costumed Walks 2022
DESCRIPTION:  \nThe Ramsgate Costumed Walks Group  have announced their 2022 season of walks in Ramsgate. \nTown Centre Walk –  Assemble by Halifax Bank   July 19th – 7.00 p.m. \nPlease Note – Large Groups will need to pre-book on 01843 852780 There is noset charge for these walks but a donation of £2.00 per person is suggested tohelp with running costs. For further information contact 07989 569935
URL:https://ramsgate-society.org.uk/event/1471/
LOCATION:Kent
CATEGORIES:Walks
ATTACH;FMTTYPE=image/png:https://ramsgate-society.org.uk/wp-content/uploads/2022/05/Screenshot-2022-05-20-at-14.17.05.png
END:VEVENT
BEGIN:VEVENT
DTSTART;TZID=UTC:20220726T190000
DTEND;TZID=UTC:20220726T190000
DTSTAMP:20260425T004842
CREATED:20220520T141236Z
LAST-MODIFIED:20220520T150052Z
UID:1473-1658862000-1658862000@ramsgate-society.org.uk
SUMMARY:Ramsgate Costumed Walks 2022
DESCRIPTION:  \nThe Ramsgate Costumed Walks Group  have announced their 2022 season of walks in Ramsgate. \nEast Cliff Walk –  Assemble in Albion Gardens – July 26th – 7.00 p.m. \nPlease Note – Large Groups will need to pre-book on 01843 852780 There is no set charge for these walks but a donation of £2.00 per person is suggested to help with running costs. For further information contact 07989 569935
URL:https://ramsgate-society.org.uk/event/ramsgate-costumed-walks-2022-2/
LOCATION:Kent
CATEGORIES:Walks
ATTACH;FMTTYPE=image/png:https://ramsgate-society.org.uk/wp-content/uploads/2022/05/Screenshot-2022-05-20-at-14.17.05.png
END:VEVENT
END:VCALENDAR