BEGIN:VCALENDAR
VERSION:2.0
PRODID:-//Ramsgate Society - ECPv6.15.18//NONSGML v1.0//EN
CALSCALE:GREGORIAN
METHOD:PUBLISH
X-WR-CALNAME:Ramsgate Society
X-ORIGINAL-URL:https://ramsgate-society.org.uk
X-WR-CALDESC:Events for Ramsgate Society
REFRESH-INTERVAL;VALUE=DURATION:PT1H
X-Robots-Tag:noindex
X-PUBLISHED-TTL:PT1H
BEGIN:VTIMEZONE
TZID:UTC
BEGIN:STANDARD
TZOFFSETFROM:+0000
TZOFFSETTO:+0000
TZNAME:UTC
DTSTART:20220101T000000
END:STANDARD
END:VTIMEZONE
BEGIN:VEVENT
DTSTART;TZID=UTC:20230223T110000
DTEND;TZID=UTC:20230223T130000
DTSTAMP:20260424T132341
CREATED:20230212T143533Z
LAST-MODIFIED:20230212T143533Z
UID:1970-1677150000-1677157200@ramsgate-society.org.uk
SUMMARY:Beach Roamer Walk from the Clock House at Ramsgate along the Thanet Coastal Path to Botany Bay
DESCRIPTION:Join us on a beach roamer walk from the Clock House at Ramsgate along the Thanet Coastal Path to Botany Bay on Thursday 23rd February.  We will meet at 11.00am outside the Clock House\, the walk takes you past quaint beach huts\, and secluded sandy bays taking in unbeatable views across the English Channel. We will walk along the coast to Dumpton Bay\, Louisa Bay\, Viking Bay and onto Stone Bay\, from which there are steps up to a short stretch along the road to Joss Bay\, Kingsgate Bay and then on to Botany Bay. The walk is approximately 4.4 miles and will take about 2 hours. At Botany Bay you can stop for lunch at the Botany Bay Hotel\, you can book a table on their website: https://www.botanybayhotel.co.uk Apart from the steps at Stone Bay the walk is mainly flat\, but if walking back is not for you then you can walk up Percy Avenue from Botany Bay to George Hill Road and catch the Loop back to Ramsgate. \n\n\nWe are asking for a booking fee of £5\, which will go toward our sustaining our current projects. Bookings for the walk will be available from 14.02.23. To book at place click the link Walk to Botany Bay
URL:https://ramsgate-society.org.uk/event/beach-roamer-walk-from-the-clock-house-at-ramsgate-along-the-thanet-coastal-path-to-botany-bay/
LOCATION:Kent
CATEGORIES:Walks
ATTACH;FMTTYPE=image/jpeg:https://ramsgate-society.org.uk/wp-content/uploads/2023/02/IMG_4025-scaled.jpeg
ORGANIZER;CN="Ramsgate Society":MAILTO:news@ramsgate-society.org.uk
END:VEVENT
END:VCALENDAR