BEGIN:VCALENDAR
VERSION:2.0
PRODID:-//Ramsgate Society - ECPv6.15.18//NONSGML v1.0//EN
CALSCALE:GREGORIAN
METHOD:PUBLISH
X-ORIGINAL-URL:https://ramsgate-society.org.uk
X-WR-CALDESC:Events for Ramsgate Society
REFRESH-INTERVAL;VALUE=DURATION:PT1H
X-Robots-Tag:noindex
X-PUBLISHED-TTL:PT1H
BEGIN:VTIMEZONE
TZID:UTC
BEGIN:STANDARD
TZOFFSETFROM:+0000
TZOFFSETTO:+0000
TZNAME:UTC
DTSTART:20220101T000000
END:STANDARD
END:VTIMEZONE
BEGIN:VEVENT
DTSTART;TZID=UTC:20230326T110000
DTEND;TZID=UTC:20230326T130000
DTSTAMP:20260425T115653
CREATED:20230313T113350Z
LAST-MODIFIED:20230313T113350Z
UID:2034-1679828400-1679835600@ramsgate-society.org.uk
SUMMARY:Ramsgate Society Chine to Chine Litter Pick
DESCRIPTION:The Ramsgate Society are very pleased once again to be part of the annual Great British Spring Clean. Together with other local volunteer litter picking groups we want to make Ramsgate a place to be proud of\, for both residents and visitors alike. We meet at Pier Yard by the Clock House Museum at 11am on Sunday March 26th \nWe will divide into groups and litter pick in both directions; east towards the Eastcliff chine and west through the harbour to the Westcliff chine. Just bring some strong gloves and everything else will be provided. Since beginning our litter picks the number of society members participating has increased year on year so let’s make this the best yet!\nEveryone is welcome\, family\, neighbours and friends. \nRegister here: bit.ly/MarchLitterPick
URL:https://ramsgate-society.org.uk/event/ramsgate-society-chine-to-chine-litter-pick/
LOCATION:Ramsgate Clock House\, Royal Hbr Approach\, Ramsgate\, CT11 8LS
CATEGORIES:Walks
ATTACH;FMTTYPE=image/jpeg:https://ramsgate-society.org.uk/wp-content/uploads/2023/03/Great-Ramsgate-Spring-Clean-2023-main-poster.jpeg
ORGANIZER;CN="Ramsgate Society":MAILTO:news@ramsgate-society.org.uk
END:VEVENT
BEGIN:VEVENT
DTSTART;TZID=UTC:20230514T110000
DTEND;TZID=UTC:20230514T130000
DTSTAMP:20260425T115653
CREATED:20230418T110243Z
LAST-MODIFIED:20230418T110243Z
UID:2088-1684062000-1684069200@ramsgate-society.org.uk
SUMMARY:Walk - Stodmarsh National Nature Reserve (NNR)
DESCRIPTION:Sunday 14th May. Meet in the reserve car park (CT3 4BB) at 11.00am. Stodmarsh National Nature Reserve (NNR)\, is located just outside Canterbury between Stodmarsh Village and Grove Ferry Picnic Site and is one of the best places in the country to enjoy the outdoors and experience spectacular wildlife. It is owned by Natural England and managed for wildlife and visitors. The nature trails across the Reserve will help you get the most from your visit and take you past wildlife hotspots. You could bring a pair of binoculars to get a close-up view of the wildfowl from the bird hides. Dogs are welcome in most areas of the reserve if they are on a lead. \nThe reserve car park is east of Stodmarsh village\, located along with the turn off between the Red Lion pub and the church (CT3 4BB). Voluntary car parking charges can be paid in advance or on the day using the RingGo app. \nThe walk will take approximately 2 hours and can be wet in places if it has rained recently\, so appropriate foot ware is recommended. To book at place click the link Stodmarsh Nature Reserve \nWe are asking for a booking fee of £5\, which will go toward our sustaining our current projects.  \nIf you wish\, you can book lunch after the walk (approximately 1.00pm) at the Grove Ferry Inn. (Grove Ferry Road\, Canterbury\, CT3 4BP). www.groveferryinn.co.uk. Call 01227 860302 or email info@groveferryinn.co.uk \n 
URL:https://ramsgate-society.org.uk/event/walk-stodmarsh-national-nature-reserve-nnr/
LOCATION:CT3 4BB\, Stodmarsh Nature Reserve\, Kent\, CT3 4BB\, United Kingdom
CATEGORIES:Walks
ATTACH;FMTTYPE=image/jpeg:https://ramsgate-society.org.uk/wp-content/uploads/2023/04/IMG_3999-1-scaled.jpeg
ORGANIZER;CN="Ramsgate Society":MAILTO:news@ramsgate-society.org.uk
END:VEVENT
END:VCALENDAR