BEGIN:VCALENDAR
VERSION:2.0
PRODID:-//Ramsgate Society - ECPv6.15.18//NONSGML v1.0//EN
CALSCALE:GREGORIAN
METHOD:PUBLISH
X-WR-CALNAME:Ramsgate Society
X-ORIGINAL-URL:https://ramsgate-society.org.uk
X-WR-CALDESC:Events for Ramsgate Society
REFRESH-INTERVAL;VALUE=DURATION:PT1H
X-Robots-Tag:noindex
X-PUBLISHED-TTL:PT1H
BEGIN:VTIMEZONE
TZID:UTC
BEGIN:STANDARD
TZOFFSETFROM:+0000
TZOFFSETTO:+0000
TZNAME:UTC
DTSTART:20210101T000000
END:STANDARD
END:VTIMEZONE
BEGIN:VEVENT
DTSTART;TZID=UTC:20221208T183000
DTEND;TZID=UTC:20221208T200000
DTSTAMP:20260423T162422
CREATED:20221114T122506Z
LAST-MODIFIED:20221206T105044Z
UID:1834-1670524200-1670529600@ramsgate-society.org.uk
SUMMARY:Advent Doors 'Push the Boat Out'
DESCRIPTION:Come and support the 8th December Advent Door hosted by The Ramsgate Society outside the Maritime Museum\, which will be lit up for everyone to enjoy!  Listen to salty sea stories of the high seas and and a mix of sea shanties and laments.  Sample some festive ship’s biscuits and get merry with a tot of sailors’ grog – everyone guaranteed to have a great time as well as supporting a local charity through cash donations on the evening. \nAs a further incentive\, December 8th is also the late-night shopping evening for Ramsgate’s independent shops so why not combine retail therapy with our ‘Push the Boat Out’ event? To help us with the numbers please book free tickets here:  https://bit.ly/AdventDoors \nDrop in anytime you like between 6:30 pm and 8.00 pm and stay as long as you like. \nFor further details on other Advent Doors 2022 please go to Facebook Page Advent Doors 2022.
URL:https://ramsgate-society.org.uk/event/advent-doors-push-the-boat-out/
LOCATION:Ramsgate Clock House\, Royal Hbr Approach\, Ramsgate\, CT11 8LS
CATEGORIES:Community Projects
ATTACH;FMTTYPE=image/jpeg:https://ramsgate-society.org.uk/wp-content/uploads/2022/11/E6196273-1BD6-4776-B594-1B5969774168.jpeg
ORGANIZER;CN="Ramsgate Society":MAILTO:news@ramsgate-society.org.uk
END:VEVENT
BEGIN:VEVENT
DTSTART;TZID=UTC:20221212T180000
DTEND;TZID=UTC:20221212T200000
DTSTAMP:20260423T162422
CREATED:20221205T103121Z
LAST-MODIFIED:20221205T103121Z
UID:1873-1670868000-1670875200@ramsgate-society.org.uk
SUMMARY:Southern Water Event
DESCRIPTION:Many members have been angered by untreated sewage being expelled into the sea nearby. If that includes you\, we hope you will be interested to attend an event on Monday 12th December 2022 at the Comfort Inn\, Victoria Parade\, Ramsgate\, CT11 8DT from 6pm to 8pm. \nIt will be a mix of explanations\, plans and a rare chance to question and perhaps challenge. \nThey describe the event as an ‘information evening’ and this is what their publicity says you can expect: \n“This will be a great opportunity to understand the solution\, discuss with some members of the Southern Water Task Force Team\, meet our contractors supporting the programme delivery\, and input your local knowledge of the area into the plans. \nActivities at the “Information Evening” event will include\, \n\nIntroduction to the Task force and introduction to our ongoing interventions.\nUpdate on Beach Buoy and Water Quality.\nOpportunity to join the team from Groundwork to provide us with knowledge of Margate to help improve the development of schemes.\nView work of Rescue2\, who are completing our connectivity surveys on rainwater going to a combined or foul sewer.\nQuestion time for residents to ask any questions to the Southern Water Team.”\n\nYou can also read more about their approach to dealing with storm overflows here.
URL:https://ramsgate-society.org.uk/event/southern-water-event/
LOCATION:Comfort Inn\, Victoria Parade\, Ramsgate\, CT118DT\, United Kingdom
CATEGORIES:Community Projects
ATTACH;FMTTYPE=image/jpeg:https://ramsgate-society.org.uk/wp-content/uploads/2022/12/C1D434EA-F493-49BC-A220-F493EE6D7CF4.jpeg
END:VEVENT
END:VCALENDAR