BEGIN:VCALENDAR
VERSION:2.0
PRODID:-//Ramsgate Society - ECPv6.15.18//NONSGML v1.0//EN
CALSCALE:GREGORIAN
METHOD:PUBLISH
X-ORIGINAL-URL:https://ramsgate-society.org.uk
X-WR-CALDESC:Events for Ramsgate Society
REFRESH-INTERVAL;VALUE=DURATION:PT1H
X-Robots-Tag:noindex
X-PUBLISHED-TTL:PT1H
BEGIN:VTIMEZONE
TZID:UTC
BEGIN:STANDARD
TZOFFSETFROM:+0000
TZOFFSETTO:+0000
TZNAME:UTC
DTSTART:20230101T000000
END:STANDARD
END:VTIMEZONE
BEGIN:VTIMEZONE
TZID:UTC
BEGIN:STANDARD
TZOFFSETFROM:+0000
TZOFFSETTO:+0000
TZNAME:UTC
DTSTART:20230101T000000
END:STANDARD
END:VTIMEZONE
BEGIN:VEVENT
DTSTART;TZID=UTC:20240314T190000
DTEND;TZID=UTC:20240314T200000
DTSTAMP:20260422T144332
CREATED:20240226T145043Z
LAST-MODIFIED:20240313T121258Z
UID:2422-1710442800-1710446400@ramsgate-society.org.uk
SUMMARY:Looping the Loop: Talk now postponed
DESCRIPTION:Suzy Humphries set up Looping the Loop and will talk about current projects\, the job of building the partnerships and funding needed to create new theatre work\, and how we hope a revitalised Theatre Royal Margate may be possible. \nLooping the Loop was set up by charity Ramsgate Arts in 2013\, responding to a callout from Battersea Arts Centre for towns around England\, suffering from deprivation\, to join a new programme – the Collaborative Touring Network. The aim – to rethink the notion of ‘touring theatre’\, to make it less about piloting in and disappearing straight after the last show but about really involving\, working with and supporting the towns and people that shows visit. \nIn 2019 Looping the Loop became a separate Community Interest Company and is still creating theatre here in Thanet. They have worked with people of all ages and groups including Inspiration Creative\, East Kent Mencap\, Newington Community Centre\, Copper Kettle Home\, Homefleet House\, Jo Jo’s Dance School and migrant families in Cliftonville\, involving people directly in shows and projects\, building a stronger community through the sense of belonging and purpose gained through the group dynamic. Some members may have seen Bunker of Zion in 2022\, a joyous celebration of Zimbabwean dance and music; Inspiration Creative members worked with the company for a week and were a principal part of the performances in this national touring production. \nThe talk will take place at the San Clu Hotel in their downstairs meeting room with full disabled access and much nearby on street parking. To attend you must book in advance at £2 (+88p Eventbrite fee) a ticket. Doors open at 6:30pm for a 7pm start. Non members of the Ramsgate Society are requested to make a further voluntary donation of £3. \n \nTickets available from: https://bit.ly/LoopingtheLoopTalk or just click on the website link below.
URL:https://ramsgate-society.org.uk/event/looping-the-loop-being-serious-about-sometimes-being-silly/
LOCATION:San Clu Hotel\, Victoria Parade\, Ramsgate\, Kent\, CT11 8DT\, United Kingdom
CATEGORIES:Community Projects,Talks
ATTACH;FMTTYPE=image/jpeg:https://ramsgate-society.org.uk/wp-content/uploads/2024/02/wwx.jpeg
ORGANIZER;CN="Ramsgate Society":MAILTO:news@ramsgate-society.org.uk
END:VEVENT
BEGIN:VEVENT
DTSTART;TZID=UTC:20240324T110000
DTEND;TZID=UTC:20240324T130000
DTSTAMP:20260422T144332
CREATED:20240219T173755Z
LAST-MODIFIED:20240219T173755Z
UID:2410-1711278000-1711285200@ramsgate-society.org.uk
SUMMARY:Chine to Chine Litter Pick
DESCRIPTION:The Ramsgate Society Chine to Chine Litter Pick is an annual event for members\, friends and families who would like to help keep our town tidy. Litter is a national scourge but with the cutbacks in Council budgets local authorities are finding it more and more difficult to keep on top of the problem\, so it’s up to us to do our bit to show we care about the public spaces which we all share. \nThis event is part of the Great Ramsgate Spring Clean and is our annual volunteer clean-up\, which is part of Keep Britain Tidy’s Big Spring Clean. The Town Council and Town Team have supported this event for some years now as a way to engage residents\, build civic pride and help get Ramsgate spruced up for the visitor season. \nWe will assemble outside the Clock House on Sunday March 24th at 11am and finish at 1pm. All equipment will be provided. \nIt’s usually a very sociable occasion – suitable for all the family- the kids really enjoy doing their bit\, so bring them along as they need to be accompanied by an adult.
URL:https://ramsgate-society.org.uk/event/chine-to-chine-litter-pick-2/
LOCATION:The Clock House\, Royal Harbour\, Ramsgate\, Kent\, CT11 8LS\, United Kingdom
CATEGORIES:Community Projects
ATTACH;FMTTYPE=image/jpeg:https://ramsgate-society.org.uk/wp-content/uploads/2024/02/image.jpeg
ORGANIZER;CN="Ramsgate Society":MAILTO:news@ramsgate-society.org.uk
END:VEVENT
END:VCALENDAR