BEGIN:VCALENDAR
VERSION:2.0
PRODID:-//Ramsgate Society - ECPv6.15.18//NONSGML v1.0//EN
CALSCALE:GREGORIAN
METHOD:PUBLISH
X-WR-CALNAME:Ramsgate Society
X-ORIGINAL-URL:https://ramsgate-society.org.uk
X-WR-CALDESC:Events for Ramsgate Society
REFRESH-INTERVAL;VALUE=DURATION:PT1H
X-Robots-Tag:noindex
X-PUBLISHED-TTL:PT1H
BEGIN:VTIMEZONE
TZID:UTC
BEGIN:STANDARD
TZOFFSETFROM:+0000
TZOFFSETTO:+0000
TZNAME:UTC
DTSTART:20220101T000000
END:STANDARD
END:VTIMEZONE
BEGIN:VEVENT
DTSTART;TZID=UTC:20230317T190000
DTEND;TZID=UTC:20230317T200000
DTSTAMP:20260425T235209
CREATED:20230217T111908Z
LAST-MODIFIED:20230217T111908Z
UID:1991-1679079600-1679083200@ramsgate-society.org.uk
SUMMARY:Ramsgate Society Talk: Banned. Place\, Belonging\, Identity
DESCRIPTION:The Ramsgate Society provided research support to the curator of this exhibition\, Sabina Desir\, by gathering stories from those who were in our town (as children of course) during the time the American Airforce was stationed at RAF Manston during the ‘Cold War’ period of 1951 to 1958. \nNewspaper research\, our calls for people with memories through social media and our monthly Society newsletter produced nearly 100 recollections and from these we traced many of the images and stories you will find at the exhibition currently running till May 8th at the Turner Contemporary in Margate. \nThe exhibition\, curated by Sabina\, with Richard Birch as Visual Adviser\, explores differing responses by town council and local people to having 2\,500 USAF servicemen on their doorstep. These servicemen included 200 African American’s and other non-whites who\, because of the racial segregation of the US military\, were directed to be billeted and to seek entertainment in Ramsgate while the white servicemen were encouraged to concentrate in other Thanet towns. \nWe hope you will be pleased to learn that Ramsgate residents demonstrated a general hospitality to the airman\, regardless of race\, and fought against their own town council when the mayor suggested banning all American servicemen at Manston from having access to the town facilities. \nThe presentation on March 17th by Sabina Desir\, with support from Terry Prue\, will provide extra detail on what we found and some of the stories behind what you can see at the Turner. It is also a ‘thank you’ from us for the wealth of information we collected from Ramsgate residents before the passing of time risked that it would be gone forever. \nAs usual you must pre-book to attend and doors open at 6:30pm for the presentation and discussion runs from 7pm to 8pm. \nBooking at bit.ly/BannedTalk
URL:https://ramsgate-society.org.uk/event/ramsgate-society-talk-banned-place-belonging-identity/
LOCATION:Royal Temple Yacht Club\, 6 Westcliff Mansions\, Ramsgate\, Kent\, CT11 9HY\, United Kingdom
CATEGORIES:Community Projects,Talks
ATTACH;FMTTYPE=image/jpeg:https://ramsgate-society.org.uk/wp-content/uploads/2023/02/IMG_0750.jpeg
ORGANIZER;CN="Ramsgate Society":MAILTO:news@ramsgate-society.org.uk
END:VEVENT
BEGIN:VEVENT
DTSTART;TZID=UTC:20230331T140000
DTEND;TZID=UTC:20230331T160000
DTSTAMP:20260425T235209
CREATED:20230217T113454Z
LAST-MODIFIED:20230329T091441Z
UID:1994-1680271200-1680278400@ramsgate-society.org.uk
SUMMARY:Tour of Radford House
DESCRIPTION:Were you inspired by our January Radford House talk about the ambition of Ramsgate Town Council to create a valuable community asset out of the old Fire Station? Or perhaps you missed the event and want to learn more before you could decide to contribute to the discussion of possibilities. What is there in this building that could be useful to you?  Your views will be especially welcome if you are an event organiser or a member of a community organisation that could do with more space. \nWe have arranged a follow-up\, starting at 2pm on 31st March\, for up to 20 people to tour the building and to engage with Suzy Humphries\, the Radford House Community and Events Organiser. You must book for this free event\, but please only do so if you will definitely attend – numbers are strictly limited. \nNote that until renovations start\, which include installing a lift\, the two upper floors at Radford House are reached by fairly steep staircases. We apologise but please bear this in mind.
URL:https://ramsgate-society.org.uk/event/tour-of-radford-house/
LOCATION:Radford House (The Old Fire Station)\, Effingham Street\, Ramsgate\, Kent\, CT11 9AT\, United Kingdom
CATEGORIES:Community Projects
ATTACH;FMTTYPE=image/jpeg:https://ramsgate-society.org.uk/wp-content/uploads/2023/02/IMG_0713-scaled.jpeg
ORGANIZER;CN="Ramsgate Society":MAILTO:news@ramsgate-society.org.uk
END:VEVENT
END:VCALENDAR